BEGIN:VCALENDAR
VERSION:2.0
PRODID:-//Chandler Nazarene Christian Church in  Chandler, AZ - ECPv6.15.20//NONSGML v1.0//EN
CALSCALE:GREGORIAN
METHOD:PUBLISH
X-WR-CALNAME:Chandler Nazarene Christian Church in  Chandler, AZ
X-ORIGINAL-URL:https://chandlernazarene.org
X-WR-CALDESC:Events for Chandler Nazarene Christian Church in  Chandler, AZ
REFRESH-INTERVAL;VALUE=DURATION:PT1H
X-Robots-Tag:noindex
X-PUBLISHED-TTL:PT1H
BEGIN:VTIMEZONE
TZID:America/Phoenix
BEGIN:STANDARD
TZOFFSETFROM:-0700
TZOFFSETTO:-0700
TZNAME:MST
DTSTART:20250101T000000
END:STANDARD
END:VTIMEZONE
BEGIN:VEVENT
DTSTART;TZID=America/Phoenix:20260117T080000
DTEND;TZID=America/Phoenix:20260117T170000
DTSTAMP:20260423T173259
CREATED:20250728T171155Z
LAST-MODIFIED:20250728T171157Z
UID:2200-1768636800-1768669200@chandlernazarene.org
SUMMARY:"I Am With You Always..." AZ District Women's Event
DESCRIPTION:One-day event for all women\, hosted by Crossroads Church of the Nazarene. More information to follow.
URL:https://chandlernazarene.org/events/i-am-with-you-always-az-district-womens-event-2/
LOCATION:Crossroads Church of the Nazarene\, 2950 W. Ray Road\, Chandler\, Arizona\, United States
ATTACH;FMTTYPE=image/jpeg:https://chandlernazarene.org/wp-content/uploads/2025/07/image0-8-1.jpeg
END:VEVENT
END:VCALENDAR