BEGIN:VCALENDAR
VERSION:2.0
PRODID:-//Chandler Nazarene Christian Church in  Chandler, AZ - ECPv6.15.20//NONSGML v1.0//EN
CALSCALE:GREGORIAN
METHOD:PUBLISH
X-WR-CALNAME:Chandler Nazarene Christian Church in  Chandler, AZ
X-ORIGINAL-URL:https://chandlernazarene.org
X-WR-CALDESC:Events for Chandler Nazarene Christian Church in  Chandler, AZ
REFRESH-INTERVAL;VALUE=DURATION:PT1H
X-Robots-Tag:noindex
X-PUBLISHED-TTL:PT1H
BEGIN:VTIMEZONE
TZID:America/Phoenix
BEGIN:STANDARD
TZOFFSETFROM:-0700
TZOFFSETTO:-0700
TZNAME:MST
DTSTART:20250101T000000
END:STANDARD
END:VTIMEZONE
BEGIN:VEVENT
DTSTART;TZID=America/Phoenix:20260424T190000
DTEND;TZID=America/Phoenix:20260426T120000
DTSTAMP:20260421T015600
CREATED:20250728T180138Z
LAST-MODIFIED:20250728T180139Z
UID:2210-1777057200-1777204800@chandlernazarene.org
SUMMARY:Arizona District Women's Retreat
DESCRIPTION:Escape to the mountains of Pinerock Camp and Retreat Center with other women from the Arizona District for a weekend of spiritual rest and retreat. More information to follow.
URL:https://chandlernazarene.org/events/arizona-district-womens-retreat/
LOCATION:Pinerock Camp and Retreat Center\, 1400 Pine Drive\, Prescott\, AZ\, 86303\, United States
ATTACH;FMTTYPE=image/png:https://chandlernazarene.org/wp-content/uploads/2025/07/WOMENS-RETREAT-2026.png
END:VEVENT
BEGIN:VEVENT
DTSTART;TZID=America/Phoenix:20260919T100000
DTEND;TZID=America/Phoenix:20260919T120000
DTSTAMP:20260421T015600
CREATED:20260410T003207Z
LAST-MODIFIED:20260410T003408Z
UID:2260-1789812000-1789819200@chandlernazarene.org
SUMMARY:GriefShare Loss of Spouse Seminar
DESCRIPTION:Losing a spouse is like losing a part of yourself \n\n\n\nYour husband or wife was your partner. Your confidante. Your best friend. The person you turned to in good times and bad. You faced the world side by side\, and now your spouse is gone. You wonder how it’s possible to go on. \n\n\n\nAt GriefShare\, we understand what you’re going through and want to assure you that you’re not alone. The complex emotions you’re experiencing are common\, and even to be expected.  \n\n\n\nGrief is a journey\, and whether you’re just beginning or have been walking this path for a while\, these suggestions can help:  \n\n\n\nBe patient with yourself\n\n\n\nAre you experiencing overwhelming emotions? Exhausted and in a mental fog? Feel like you’re taking one step forward and two steps back? Losing a spouse affects all aspects of your life\, so it’s important to take things one day at a time\, at your own pace. \n\n\n\n“One of the big challenges with grief is you don’t know how long you will be on the journey—or even where it will take you. … Grief will affect you in very different ways. Because everyone’s grief is unique.”  \n\n\n\nPam Lundell\, radio host; her husband died suddenly\, leaving her a single mom \n\n\n\nBe honest about what you need\n\n\n\nYou didn’t just lose your spouse. You also lost the person who paid the bills\, the gardener\, the one who cooked the meals. Letting people around you provide assistance will help ease the burden.  \n\n\n\n“People who say\, ‘Is there anything I can do?’ are genuinely offering. Most don’t know what it’s like to grieve and don’t know what you need\, so be very specific about your request.”  \n\n\n\nDr. Robert DeVries\, author; his wife of 28 years died of cancer \n\n\n\nReach out in your loneliness\n\n\n\nAfter losing a spouse\, the temptation to isolate in your grief is understandable; it’s often easier to hide away rather than force a public smile. However\, reaching out to supportive\, uplifting people is essential for grieving in a healthy way and finding relief.  \n\n\n\n“When you‘re going through loneliness\, reach out to family members and friends. You might go to a favorite place that you frequented with your spouse\, or you may try a new place to establish new traditions.”  \n\n\n\nDr. Fredrica Brooks-Davis\, counselor; her husband died 3 months after they were married \n\n\n\nReflect on who you are now\n\n\n\nLosing a spouse means losing a huge part of your identity: Instead of being part of a couple\, you’re now single\, and this changes how you relate in the world. As painful as this is\, it’s important to think through who you are without your spouse.  \n\n\n\n“For 40 years I saw myself as a husband. That’s now taken away. Sometimes it helps to  reflect on\, Who am I? Where am I going with my life? How would I describe myself to somebody else?”  \n\n\n\nThe late H. Norman Wright\, grief and trauma expert; his wife died from brain cancer. \n\n\n\nTo register – https://find.griefshare.org/events/291053
URL:https://chandlernazarene.org/events/griefshare-loss-of-spouse-seminar/
LOCATION:Chandler Church of the Nazarene\, 301 N Hartford\, Chandler\, AZ\, 85225\, United States
ATTACH;FMTTYPE=application/pdf:https://chandlernazarene.org/wp-content/uploads/2026/04/Loss-of-Spouse-Griefshare-09.19.26.pdf
ORGANIZER;CN="Tina Wilson":MAILTO:tina.willson3@icloud.com
END:VEVENT
BEGIN:VEVENT
DTSTART;TZID=America/Phoenix:20261107T100000
DTEND;TZID=America/Phoenix:20261107T120000
DTSTAMP:20260421T015600
CREATED:20250422T160202Z
LAST-MODIFIED:20250422T160203Z
UID:2141-1794045600-1794052800@chandlernazarene.org
SUMMARY:Surviving the Holidays GriefShare Seminar
DESCRIPTION:GriefShare: Surviving the Holidays is a helpful\, encouraging seminar for people facing the holidays after a loved one’s death. \n\n\n\nThe seminar features video interviews with counselors\, grief experts\, and other people who have experienced the holidays after their loved one’s death and who offer practical suggestions and reassurance. These people share honestly about: \n\n\n\n\nBeing prepared for surprising emotions that may hit over the holidays\n\n\n\nWhat to do about traditions and other coming changes\n\n\n\nHow to handle holiday parties and invitations\n\n\n\nHow to survive potentially awkward moments with other people\n\n\n\nWhere to find comfort\, strength\, and hope in a seemingly hopeless time\n\n\n\n\nThose who attend will receive a Survival Guide filled with prac
URL:https://chandlernazarene.org/events/surviving-the-holidays-griefshare-seminar-2/
LOCATION:Chandler Church of the Nazarene\, 301 N Hartford\, Chandler\, AZ\, 85225\, United States
ATTACH;FMTTYPE=image/png:https://chandlernazarene.org/wp-content/uploads/2025/04/Surviving-the-Holidays-Nov-2026.png
ORGANIZER;CN="Tina Wilson":MAILTO:tina.willson3@icloud.com
END:VEVENT
END:VCALENDAR