BEGIN:VCALENDAR
VERSION:2.0
PRODID:-//Chandler Nazarene Christian Church in  Chandler, AZ - ECPv6.15.20//NONSGML v1.0//EN
CALSCALE:GREGORIAN
METHOD:PUBLISH
X-ORIGINAL-URL:https://chandlernazarene.org
X-WR-CALDESC:Events for Chandler Nazarene Christian Church in  Chandler, AZ
REFRESH-INTERVAL;VALUE=DURATION:PT1H
X-Robots-Tag:noindex
X-PUBLISHED-TTL:PT1H
BEGIN:VTIMEZONE
TZID:America/Phoenix
BEGIN:STANDARD
TZOFFSETFROM:-0700
TZOFFSETTO:-0700
TZNAME:MST
DTSTART:20250101T000000
END:STANDARD
END:VTIMEZONE
BEGIN:VEVENT
DTSTART;TZID=America/Phoenix:20260418T090000
DTEND;TZID=America/Phoenix:20260418T120000
DTSTAMP:20260423T132917
CREATED:20260329T005750Z
LAST-MODIFIED:20260329T005752Z
UID:2252-1776502800-1776513600@chandlernazarene.org
SUMMARY:Repair Cafe
DESCRIPTION:Welcome to Repair Cafe – Chandler! We host a community event where you can make friends\, share knowledge\, and reduce waste by repairing the items you own.  \n\n\n\nJoin us for a quarterly event or volunteer: https://chandler.lionsarizona.org/repair-cafe/
URL:https://chandlernazarene.org/events/repair-cafe-5/
LOCATION:Chandler Church of the Nazarene\, 301 N Hartford\, Chandler\, AZ\, 85225\, United States
ATTACH;FMTTYPE=image/png:https://chandlernazarene.org/wp-content/uploads/2026/03/RC-04.18.26.png
END:VEVENT
END:VCALENDAR